BEGIN:VCALENDAR
VERSION:2.0
PRODID:-//エンピツ舎のWebサイト - ECPv6.15.20//NONSGML v1.0//EN
CALSCALE:GREGORIAN
METHOD:PUBLISH
X-ORIGINAL-URL:https://enpitusya.jp
X-WR-CALDESC:エンピツ舎のWebサイト のイベント
REFRESH-INTERVAL;VALUE=DURATION:PT1H
X-Robots-Tag:noindex
X-PUBLISHED-TTL:PT1H
BEGIN:VTIMEZONE
TZID:Asia/Tokyo
BEGIN:STANDARD
TZOFFSETFROM:+0900
TZOFFSETTO:+0900
TZNAME:JST
DTSTART:20230101T000000
END:STANDARD
END:VTIMEZONE
BEGIN:VEVENT
DTSTART;TZID=Asia/Tokyo:20240422T183000
DTEND;TZID=Asia/Tokyo:20240422T200000
DTSTAMP:20260421T204059
CREATED:20240305T042512Z
LAST-MODIFIED:20240305T042512Z
UID:623-1713810600-1713816000@enpitusya.jp
SUMMARY:FCCどぼくカフェ56「みんなの知らない土木の世界 ～まちかど土木入門～」
DESCRIPTION:概要\n\n\n　重厚長大なイメージのある土木ですが、実はこんなに「かわいい」のです！\n暮らし密着であるがゆえに見逃されてきた「ドボクの愛らしさ・いじらしさ」を探して歩いた、かわいい土木ガイド誕生！\n　近代的な上水道が町の誇りだった頃の凝った意匠の配水塔。「水争い」を解決するために編み出された､公平に水を分けることのできる円筒分水。村人が総出で掘った､人ひとりがやっと通れるほどの小さなトンネル――。そんな地元の人々に愛され続ける物件のかわいさはもちろん､ダムのような大きな構造物のかわいさまで､堪能しましょう。話題提供者　三上　美絵 さん（土木ライター）　　webサイトより
URL:https://enpitusya.jp/event/240422/
LOCATION:QUINTBRIDGE 2階\, 大阪市都島区東野田町4－15－82\, 大阪府\, 日本
ATTACH;FMTTYPE=image/jpeg:https://enpitusya.jp/wp-content/uploads/2024/03/20240422-2.jpeg
END:VEVENT
BEGIN:VEVENT
DTSTART;TZID=Asia/Tokyo:20240323T190000
DTEND;TZID=Asia/Tokyo:20240323T200000
DTSTAMP:20260421T204059
CREATED:20240323T132445Z
LAST-MODIFIED:20240323T143535Z
UID:633-1711220400-1711224000@enpitusya.jp
SUMMARY:【マツ博士の「未来都市☆クリエイター」】地理も世界史も楽しく先取り学習！？『世界地図を広げたくなる！？世界のビックリ構造物を学ぼう☆』
DESCRIPTION:【マツ博士の「未来都市☆クリエイター」】地理も世界史も楽しく先取り学習！？『世界地図を広げたくなる！？世界のビックリ構造物を学ぼう☆』 \n◆日程：2024年3月23日（土）19:00-20:00\n◆対象：小学生～大人（推奨：小学校中学年以上）\n◆参加費：無料\n◆講師：マツ博士（松永 昭吾先生：工学博士・土木技術者・研究者） \n\n50年後の「ミライの都市」を想像したことがありますか？\n「未来都市☆クリエイター」シリーズ3回目の主役は…「世界のビックリ構造物」です！！ \nみなさんは、この「構造物（こうぞうぶつ）」という言葉を聞いたことがありますか？\n「構造物」とは、複数の材料や部材などから作られ、基礎などで支えられたもののこと。\n具体的には「空港」や「駅」、「道路」「橋」「ビル」「ダム」など。生活に欠かせないものがたくさんありますね。そんな中でも、日本ではなかなか見られない！世界のビックリ仰天しちゃうような「構造物」を、マツ先生に紹介していただきます。 \n・大きくて、ビックリ！！\n・作るのが大変で、ビックリ！！\n・とんでもないところにあって、ビックリ！！\n・実は作った人が〇〇で、ビックリ！！ \nなど、いろんな「ビックリ構造物」が登場しますよ。 \n「構造物」は、長い年月をかけて計画・建設され、多くの人の手によって完成します。\nそれぞれの「ビックリ構造物」は、 \n・なぜ作られたのでしょうか？\n・そこには、どんな時代背景や事情があったのでしょうか？\n・どのように作られたのでしょうか？\n・人々の暮らしにどのような影響を与えたのでしょうか？ \n世界の歴史や地理を、教科書とはまた違った視点で学べますよ。マツ先生と楽しく旅をしませんか？ \nkidsweekend websiteより \n参加のレビューはこちらから
URL:https://enpitusya.jp/event/240323/
END:VEVENT
BEGIN:VEVENT
DTSTART;TZID=Asia/Tokyo:20240218T090000
DTEND;TZID=Asia/Tokyo:20240218T220000
DTSTAMP:20260421T204059
CREATED:20240219T025622Z
LAST-MODIFIED:20240220T034952Z
UID:574-1708246800-1708293600@enpitusya.jp
SUMMARY:まちのナゾを解き明かす☆生活に必要な「施設」を探検せよ！
DESCRIPTION:【マツ博士の「未来都市☆クリエイター」】気分はまるで探偵！？『まちのナゾを解き明かす☆生活に必要な「施設」を探検せよ！』 \n◆日程：2024年2月18日（日）9:00-10:00\n◆対象：小学生～大人（推奨：小学校中学年以上）\n◆参加費：無料\n◆講師：マツ博士（松永 昭吾先生：工学博士・土木技術者・研究者） \nみなさんは、50年後の「ミライの都市」を想像したことがありますか？\n「未来都市☆クリエイター」シリーズ2回目は、『まちのナゾを解き明かす☆生活に必要な「施設」を探検せよ！』です。 \n今回の主役の名前は…「インフラ」！！みなさんは聞いたことがありますか？\n「わたしたちの生活に欠かせない基盤となる設備やサービス」のことをまとめてそう呼びます。\n「ミライの都市」を作る基本として、「インフラ」をとことん探検しましょう！ \n10種類に分けられる「インフラ」。まずは、社会科の授業よりくわしく、楽しく教えてもらいましょう！\nヒトの生活を支えてくれる設備やサービスの多さ、身近さ、複雑さに、大人もオドロくこと間違いなし！？\nさらに、”まち”のどこにどんな施設があって、どんな役割を果たしているのでしょうか？ \nこの授業で「インフラ」を探検した後は、まるで探偵気分で、自分のまちの「インフラ」を調べたくなる！？\nなかなか目にすることがない”レアな”「インフラ」も、マツ先生に紹介してもらいましょう！ \nkidsweekend website より \n  \n参加のレビューはこちらから
URL:https://enpitusya.jp/event/%e3%81%be%e3%81%a1%e3%81%ae%e3%83%8a%e3%82%be%e3%82%92%e8%a7%a3%e3%81%8d%e6%98%8e%e3%81%8b%e3%81%99%e2%98%86%e7%94%9f%e6%b4%bb%e3%81%ab%e5%bf%85%e8%a6%81%e3%81%aa%e3%80%8c%e6%96%bd%e8%a8%ad%e3%80%8d/
END:VEVENT
BEGIN:VEVENT
DTSTART;TZID=Asia/Tokyo:20240214T140000
DTEND;TZID=Asia/Tokyo:20240214T190000
DTSTAMP:20260421T204059
CREATED:20240213T062150Z
LAST-MODIFIED:20240216T041308Z
UID:502-1707919200-1707937200@enpitusya.jp
SUMMARY:第6回 地方創生・国土強靭化 FORUM8セミナー・懇親会 京都
DESCRIPTION:第6回 地方創生・国土強靭化 FORUM8セミナー・懇親会 京都\n2024年2月14日(水)京都\n【特別講演：「FEMよもやま話」フォーラムエイト FEM・アドバイザー原田 義明 氏】\n「国土強靱化とデジタル田園都市構想のDXによる推進」を軸に，各地域に即したテーマで特別講演を行います。併せて、設計・解析、3DVR、ICT活用各種システム、製品体験等、デジタル田園都市構想実現を支援する最新の製品・ソリューションを提案。
URL:https://enpitusya.jp/event/20240214/
LOCATION:フォーシーズンズホテル京都\, 〒605-0932 京都市東山区妙法院前側町445-3\, 605-0932\, 日本
END:VEVENT
BEGIN:VEVENT
DTSTART;TZID=Asia/Tokyo:20240207T180000
DTEND;TZID=Asia/Tokyo:20240207T180000
DTSTAMP:20260421T204059
CREATED:20240206T052017Z
LAST-MODIFIED:20240206T052017Z
UID:450-1707328800-1707328800@enpitusya.jp
SUMMARY:第63回市民型講座開催（オンライン）
DESCRIPTION:NPOオンラインセミナー\n第15回　　令和6年2月7日（水）18:00～\n講演者：　植松　康　氏　東北大学　未来科学技術共同研究センター教授\n講演タイトル：　「風に弱いソーラーパネルと屋根葺き材から風に強い屋根をつくる—弱いもの同士を組み合わせて強いものをつくる意外な技法—」 \n　再生可能エネルギー利用促進政策を受け，太陽光発電が普及しています。東京都では2025年4月より新築建物への太陽光発電の設置が義務化されます。一方で、太陽光発電の普及に伴いソーラーパネルの強風被害も多発しています。また、近年では地球温暖化の影響か、台風が大型化し、各地に大きな被害をもたらしています。建物被害のほとんどが屋根葺き材に発生するため、その耐風性向上が課題となっています。講演者らは、太陽光発電と屋根葺き材という風に弱い2つのシステムを組み合わせることで耐風性の高い屋根システムの実現を図っています。つまり、マイナスとマイナスをかけ合わせてプラスにしようというものです。具体的には、風荷重の特性を上手く利用し、ソーラーパネルを屋根葺き材の風荷重低減ディバイスとして利用します。これによって発電のメリットだけでなく、屋根システムのコスト削減にもつながります。本セミナーではいくつかの取組事例を紹介します。
URL:https://enpitusya.jp/event/%e7%ac%ac63%e5%9b%9e%e5%b8%82%e6%b0%91%e5%9e%8b%e8%ac%9b%e5%ba%a7%e9%96%8b%e5%82%ac%ef%bc%88%e3%82%aa%e3%83%b3%e3%83%a9%e3%82%a4%e3%83%b3%ef%bc%89/
END:VEVENT
BEGIN:VEVENT
DTSTART;TZID=Asia/Tokyo:20240120T090000
DTEND;TZID=Asia/Tokyo:20240120T100000
DTSTAMP:20260421T204059
CREATED:20240208T083053Z
LAST-MODIFIED:20240110T082717Z
UID:487-1705741200-1705744800@enpitusya.jp
SUMMARY:都市計画は50年がかり！？ミライの街づくりを体験しよう！
DESCRIPTION:新シリーズ★マツ博士の「未来都市☆クリエイター」\n第1回『都市計画は50年がかり！？ミライの街づくりを体験しよう！』 \n◆日程：2024年1月20日（土）9:00-10:00\n◆対象：小学生～大人（推奨：小学校中学年以上）\n◆参加費：無料\n◆講師：マツ博士（松永 昭吾先生：工学博士・土木技術者・研究者） \nみなさんは、50年後の「ミライの都市」を想像したことがありますか？ \n★「都市」って何だろう？\n・家、学校、病院、道路、水道、下水道…、「まち」の施設の機能やミッションって？\n・「トイレに流した水」の長～い旅\n・地下空間にも広がる！アノ線のゆくえは？ \n★「都市」がかかえる問題って？\n・人口が増えたことで、人類は大ピンチに！？\n・自分の「まち」の人口は増えてる？減ってる？ \n★なんで「都市計画」は50年がかり？\n・衝撃！昭和30年ごろ計画された「高速道路」「ダム」が、今つくられている！？\n・最大の謎☆どうして「50年」もかかるのか？ \n★ミライの「都市」づくりに必要なことは？\n・より良い「ミライの都市」づくりに必要なことは？\n・「近未来」を実現している「都市」を、ちょっとだけ紹介！ \nkidsweekend website より \n参加のレビューはこちらから
URL:https://enpitusya.jp/event/%e9%83%bd%e5%b8%82%e8%a8%88%e7%94%bb%e3%81%af50%e5%b9%b4%e3%81%8c%e3%81%8b%e3%82%8a%ef%bc%81%ef%bc%9f%e3%83%9f%e3%83%a9%e3%82%a4%e3%81%ae%e8%a1%97%e3%81%a5%e3%81%8f%e3%82%8a%e3%82%92%e4%bd%93%e9%a8%93/
END:VEVENT
END:VCALENDAR